View In:
ArcGIS JavaScript
ArcGIS Online Map Viewer
ArcGIS Earth
Service Description: Surface_CutSumbu_webmerc_global
Name: Surface_CutSumbu_webmerc_global
Description:
Single Fused Map Cache: true
Tile Info:
- Height: 256
- Width: 256
- DPI: 96
-
Levels of Detail: 24
-
Level ID: 0
[ Start Tile, End Tile ]
- Resolution: 156543.03392804097
- Scale: 5.916575275917094E8
-
Level ID: 1
[ Start Tile, End Tile ]
- Resolution: 78271.51696402048
- Scale: 2.958287637958547E8
-
Level ID: 2
[ Start Tile, End Tile ]
- Resolution: 39135.75848201024
- Scale: 1.4791438189792734E8
-
Level ID: 3
[ Start Tile, End Tile ]
- Resolution: 19567.87924100512
- Scale: 7.395719094896367E7
-
Level ID: 4
[ Start Tile, End Tile ]
- Resolution: 9783.93962050256
- Scale: 3.6978595474481836E7
-
Level ID: 5
[ Start Tile, End Tile ]
- Resolution: 4891.96981025128
- Scale: 1.8489297737240918E7
-
Level ID: 6
[ Start Tile, End Tile ]
- Resolution: 2445.98490512564
- Scale: 9244648.868620459
-
Level ID: 7
[ Start Tile, End Tile ]
- Resolution: 1222.99245256282
- Scale: 4622324.4343102295
-
Level ID: 8
[ Start Tile, End Tile ]
- Resolution: 611.49622628141
- Scale: 2311162.2171551147
-
Level ID: 9
[ Start Tile, End Tile ]
- Resolution: 305.748113140705
- Scale: 1155581.1085775574
-
Level ID: 10
[ Start Tile, End Tile ]
- Resolution: 152.8740565703525
- Scale: 577790.5542887787
-
Level ID: 11
[ Start Tile, End Tile ]
- Resolution: 76.43702828517625
- Scale: 288895.27714438934
-
Level ID: 12
[ Start Tile, End Tile ]
- Resolution: 38.21851414258813
- Scale: 144447.63857219467
-
Level ID: 13
[ Start Tile, End Tile ]
- Resolution: 19.109257071294063
- Scale: 72223.81928609734
-
Level ID: 14
[ Start Tile, End Tile ]
- Resolution: 9.554628535647032
- Scale: 36111.90964304867
-
Level ID: 15
[ Start Tile, End Tile ]
- Resolution: 4.777314267823516
- Scale: 18055.954821524334
-
Level ID: 16
[ Start Tile, End Tile ]
- Resolution: 2.388657133911758
- Scale: 9027.977410762167
-
Level ID: 17
[ Start Tile, End Tile ]
- Resolution: 1.194328566955879
- Scale: 4513.9887053810835
-
Level ID: 18
[ Start Tile, End Tile ]
- Resolution: 0.5971642834779395
- Scale: 2256.9943526905417
-
Level ID: 19
[ Start Tile, End Tile ]
- Resolution: 0.29858214173896974
- Scale: 1128.4971763452709
-
Level ID: 20
[ Start Tile, End Tile ]
- Resolution: 0.14929107086948487
- Scale: 564.2485881726354
-
Level ID: 21
[ Start Tile, End Tile ]
- Resolution: 0.07464553543474244
- Scale: 282.1242940863177
-
Level ID: 22
[ Start Tile, End Tile ]
- Resolution: 0.03732276771737122
- Scale: 141.06214704315886
-
Level ID: 23
[ Start Tile, End Tile ]
- Resolution: 0.01866138385868561
- Scale: 70.53107352157943
- Format: LERC
- Compression Quality: 0.0
- LERC Error: 0.05
- Origin: X: -2.0037508342789244E7
Y: 2.0037508342789244E7
- Spatial Reference: 102100
(3857)
LatestVCSWkid(0)
Storage Info:
- Storage Format: esriMapCacheStorageModeCompactV2
- Packet Size: 128
Extent:
XMin: 1.2986235361315066E7
YMin: -112401.1762346003
XMax: 1.3007845361315066E7
YMax: -99606.1762346003
Spatial Reference: 102100
(3857)
LatestVCSWkid(0)
Initial Extent:
XMin: 1.2986235361315066E7
YMin: -112401.1762346003
XMax: 1.3007845361315066E7
YMax: -99606.1762346003
Spatial Reference: 102100
(3857)
LatestVCSWkid(0)
Full Extent:
XMin: 1.2986235361315066E7
YMin: -112401.1762346003
XMax: 1.3007845361315066E7
YMax: -99606.1762346003
Spatial Reference: 102100
(3857)
LatestVCSWkid(0)
Pixel Size X: 5.0
Pixel Size Y: 5.0
Band Count: 1
Pixel Type: F32
RasterFunction Infos: {"rasterFunctionInfos": [{
"name": "None",
"description": "",
"help": ""
}]}
Mensuration Capabilities: Basic
Inspection Capabilities:
Has Histograms: true
Has Colormap: false
Has Multi Dimensions : false
Rendering Rule:
Min Scale: 5.916575275917094E8
Max Scale: 4513.9887053810835
Min LOD: 0
Max LOD: 17
Copyright Text:
Service Data Type: esriImageServiceDataTypeGeneric
Min Values: -1.9981088638305664
Max Values: 204.63250732421875
Mean Values: 45.85945468003648
Standard Deviation Values: 41.38848839735039
Object ID Field:
Fields:
None
Default Mosaic Method: Center
Allowed Mosaic Methods:
SortField:
SortValue: null
Mosaic Operator: First
Default Compression Quality: 75
Default Resampling Method: Bilinear
Max Record Count: null
Max Image Height: 4100
Max Image Width: 15000
Max Download Image Count: null
Max Mosaic Image Count: null
Allow Raster Function: true
Allow Copy: true
Allow Analysis: true
Allow Compute TiePoints: false
Supports Statistics: false
Supports Advanced Queries: false
Use StandardizedQueries: true
Raster Type Infos:
Name: Raster Dataset
Description: Supports all ArcGIS Raster Datasets
Help:
Has Raster Attribute Table: false
Edit Fields Info: null
Ownership Based AccessControl For Rasters: null
Child Resources:
Info
Histograms
Statistics
Key Properties
Legend
Raster Function Infos
Supported Operations:
Export Image
Identify
Measure
Compute Histograms
Compute Statistics Histograms
Get Samples
Compute Class Statistics
Query Boundary
Compute Pixel Location
Compute Angles
Validate
Project