{
 "currentVersion": 11.4,
 "serviceDescription": "Surface_CutSumbu_webmerc_global",
 "name": "Surface_CutSumbu_webmerc_global",
 "description": "",
 "extent": {
  "xmin": 1.2986235361315066E7,
  "ymin": -112401.1762346003,
  "xmax": 1.3007845361315066E7,
  "ymax": -99606.1762346003,
  "spatialReference": {
   "wkid": 102100,
   "latestWkid": 3857
  }
 },
 "initialExtent": {
  "xmin": 1.2986235361315066E7,
  "ymin": -112401.1762346003,
  "xmax": 1.3007845361315066E7,
  "ymax": -99606.1762346003,
  "spatialReference": {
   "wkid": 102100,
   "latestWkid": 3857
  }
 },
 "fullExtent": {
  "xmin": 1.2986235361315066E7,
  "ymin": -112401.1762346003,
  "xmax": 1.3007845361315066E7,
  "ymax": -99606.1762346003,
  "spatialReference": {
   "wkid": 102100,
   "latestWkid": 3857
  }
 },
 "sortableFields": "",
 "bandCount": 1,
 "pixelType": "F32",
 "minValues": [
  -1.9981088638305664
 ],
 "maxValues": [
  204.63250732421875
 ],
 "meanValues": [
  45.85945468003648
 ],
 "stdvValues": [
  41.38848839735039
 ],
 "hasMultidimensions": false,
 "pixelSizeX": 5,
 "pixelSizeY": 5,
 "meanPixelSize": 5,
 "datasetFormat": "FGDBR",
 "uncompressedSize": 44239992,
 "blockWidth": 128,
 "blockHeight": 128,
 "compressionType": "LZ77",
 "bandNames": [
  "Band_1"
 ],
 "allowCopy": true,
 "allowAnalysis": true,
 "itemAccess": false,
 "inspectionCapabilities": "",
 "minPixelSize": 1.194328566955879,
 "maxPixelSize": 156543.03392804097,
 "copyrightText": "",
 "serviceDataType": "esriImageServiceDataTypeGeneric",
 "serviceSourceType": "esriImageServiceSourceTypeDataset",
 "objectIdField": "",
 "fields": [],
 "capabilities": "Image,Metadata,Mensuration",
 "defaultMosaicMethod": "Center",
 "allowedMosaicMethods": "",
 "sortField": "",
 "sortValue": null,
 "sortAscending": true,
 "mosaicOperator": "First",
 "defaultCompressionQuality": 75,
 "defaultResamplingMethod": "Bilinear",
 "maxImageHeight": 4100,
 "maxImageWidth": 15000,
 "singleFusedMapCache": true,
 "tileInfo": {
  "rows": 256,
  "cols": 256,
  "dpi": 96,
  "format": "LERC",
  "compressionQuality": 0,
  "lercError": 0.05,
  "origin": {
   "x": -2.0037508342789244E7,
   "y": 2.0037508342789244E7
  },
  "spatialReference": {
   "wkid": 102100,
   "latestWkid": 3857
  },
  "lods": [
   {
    "level": 0,
    "resolution": 156543.03392804097,
    "scale": 5.916575275917094E8
   },
   {
    "level": 1,
    "resolution": 78271.51696402048,
    "scale": 2.958287637958547E8
   },
   {
    "level": 2,
    "resolution": 39135.75848201024,
    "scale": 1.4791438189792734E8
   },
   {
    "level": 3,
    "resolution": 19567.87924100512,
    "scale": 7.395719094896367E7
   },
   {
    "level": 4,
    "resolution": 9783.93962050256,
    "scale": 3.6978595474481836E7
   },
   {
    "level": 5,
    "resolution": 4891.96981025128,
    "scale": 1.8489297737240918E7
   },
   {
    "level": 6,
    "resolution": 2445.98490512564,
    "scale": 9244648.868620459
   },
   {
    "level": 7,
    "resolution": 1222.99245256282,
    "scale": 4622324.4343102295
   },
   {
    "level": 8,
    "resolution": 611.49622628141,
    "scale": 2311162.2171551147
   },
   {
    "level": 9,
    "resolution": 305.748113140705,
    "scale": 1155581.1085775574
   },
   {
    "level": 10,
    "resolution": 152.8740565703525,
    "scale": 577790.5542887787
   },
   {
    "level": 11,
    "resolution": 76.43702828517625,
    "scale": 288895.27714438934
   },
   {
    "level": 12,
    "resolution": 38.21851414258813,
    "scale": 144447.63857219467
   },
   {
    "level": 13,
    "resolution": 19.109257071294063,
    "scale": 72223.81928609734
   },
   {
    "level": 14,
    "resolution": 9.554628535647032,
    "scale": 36111.90964304867
   },
   {
    "level": 15,
    "resolution": 4.777314267823516,
    "scale": 18055.954821524334
   },
   {
    "level": 16,
    "resolution": 2.388657133911758,
    "scale": 9027.977410762167
   },
   {
    "level": 17,
    "resolution": 1.194328566955879,
    "scale": 4513.9887053810835
   },
   {
    "level": 18,
    "resolution": 0.5971642834779395,
    "scale": 2256.9943526905417
   },
   {
    "level": 19,
    "resolution": 0.29858214173896974,
    "scale": 1128.4971763452709
   },
   {
    "level": 20,
    "resolution": 0.14929107086948487,
    "scale": 564.2485881726354
   },
   {
    "level": 21,
    "resolution": 0.07464553543474244,
    "scale": 282.1242940863177
   },
   {
    "level": 22,
    "resolution": 0.03732276771737122,
    "scale": 141.06214704315886
   },
   {
    "level": 23,
    "resolution": 0.01866138385868561,
    "scale": 70.53107352157943
   }
  ]
 },
 "storageInfo": {
  "storageFormat": "esriMapCacheStorageModeCompactV2",
  "packetSize": 128
 },
 "cacheType": "Elevation",
 "allowRasterFunction": true,
 "rasterFunctionInfos": [
  {
   "name": "None",
   "description": "",
   "help": ""
  }
 ],
 "rasterTypeInfos": [
  {
   "name": "Raster Dataset",
   "description": "Supports all ArcGIS Raster Datasets",
   "help": ""
  }
 ],
 "mensurationCapabilities": "Basic",
 "hasHistograms": true,
 "hasColormap": false,
 "hasRasterAttributeTable": false,
 "minScale": 5.916575275917094E8,
 "maxScale": 4513.9887053810835,
 "minLOD": 0,
 "maxLOD": 17,
 "exportTilesAllowed": false,
 "supportsStatistics": false,
 "supportsAdvancedQueries": false,
 "editFieldsInfo": null,
 "ownershipBasedAccessControlForRasters": null,
 "allowComputeTiePoints": false,
 "useStandardizedQueries": true,
 "advancedQueryCapabilities": {
  "useStandardizedQueries": true,
  "supportsStatistics": false,
  "supportsOrderBy": false,
  "supportsDistinct": false,
  "supportsPagination": false
 },
 "spatialReference": {
  "wkid": 102100,
  "latestWkid": 3857
 }
}
